BEGIN:VCALENDAR
VERSION:2.0
PRODID:-//eventon.com NONSGML v1.0//EN
CALSCALE:GREGORIAN
METHOD:PUBLISH
BEGIN:VEVENT
UID:69e736c2ecdac
DTSTAMP:20260421T083514Z
DTSTART:20260212T030000Z
DTEND:20260211T210000Z
LOCATION:BREATHE Midwives 40 Westmore Dr Suite 104
SUMMARY:Renew\,  Reclaim\,  Recharge Massage - Session 8
DESCRIPTION:Renew\,  Reclaim\,  Recharge massage program is a free program 
 that focuses on supporting health and wellness for BIPOC individuals. Book 
 a free session with a registered massage therapist who will work with you t
 o provide you with regiment that is specific to you. Whether you are pregna
 nt \,  just gave[..]\nhttps://www.breathemidwives.ca/events/renew-reclaim-r
 echarge-massage-session-8/
URL:https://www.breathemidwives.ca/events/renew-reclaim-recharge-massage-session-8/
END:VEVENT
END:VCALENDAR